BEGIN:VCALENDAR
VERSION:2.0
PRODID:-//NAMME - ECPv6.15.20//NONSGML v1.0//EN
CALSCALE:GREGORIAN
METHOD:PUBLISH
X-WR-CALNAME:NAMME
X-ORIGINAL-URL:https://www.nammenational.org
X-WR-CALDESC:Events for NAMME
REFRESH-INTERVAL;VALUE=DURATION:PT1H
X-Robots-Tag:noindex
X-PUBLISHED-TTL:PT1H
BEGIN:VTIMEZONE
TZID:UTC
BEGIN:STANDARD
TZOFFSETFROM:+0000
TZOFFSETTO:+0000
TZNAME:UTC
DTSTART:20200101T000000
END:STANDARD
END:VTIMEZONE
BEGIN:VEVENT
DTSTART;TZID=UTC:20210218T093000
DTEND;TZID=UTC:20210218T093000
DTSTAMP:20260424T215615
CREATED:20210205T050742Z
LAST-MODIFIED:20210205T050743Z
UID:6340-1613640600-1613640600@www.nammenational.org
SUMMARY:NAMME Executive Committee Meeting
DESCRIPTION:
URL:https://www.nammenational.org/event/namme-executive-committee-meeting-2/
END:VEVENT
BEGIN:VEVENT
DTSTART;TZID=UTC:20210216T150000
DTEND;TZID=UTC:20210216T150000
DTSTAMP:20260424T215615
CREATED:20210205T044554Z
LAST-MODIFIED:20210205T044555Z
UID:6336-1613487600-1613487600@www.nammenational.org
SUMMARY:Regional Treasurers Meeting
DESCRIPTION:
URL:https://www.nammenational.org/event/regional-treasurers-meeting/
END:VEVENT
BEGIN:VEVENT
DTSTART;TZID=UTC:20210211T093000
DTEND;TZID=UTC:20210211T093000
DTSTAMP:20260424T215615
CREATED:20210205T050702Z
LAST-MODIFIED:20210205T050704Z
UID:6338-1613035800-1613035800@www.nammenational.org
SUMMARY:NAMME Executive Committee Meeting
DESCRIPTION:
URL:https://www.nammenational.org/event/namme-executive-committee-meeting/
END:VEVENT
BEGIN:VEVENT
DTSTART;TZID=UTC:20210126T180000
DTEND;TZID=UTC:20210126T180000
DTSTAMP:20260424T215615
CREATED:20201212T042702Z
LAST-MODIFIED:20210122T152120Z
UID:5904-1611684000-1611684000@www.nammenational.org
SUMMARY:Ask NAMME: APSA\, BNGAP\, SNMA
DESCRIPTION:This event is open to NAMME members\, medical students and residents
URL:https://www.nammenational.org/event/ask-namme/
END:VEVENT
BEGIN:VEVENT
DTSTART;TZID=UTC:20210119T150000
DTEND;TZID=UTC:20210119T150000
DTSTAMP:20260424T215615
CREATED:20201207T211809Z
LAST-MODIFIED:20201207T211810Z
UID:5879-1611068400-1611068400@www.nammenational.org
SUMMARY:Executive Board Meeting
DESCRIPTION:
URL:https://www.nammenational.org/event/executive-board-meeting/
END:VEVENT
END:VCALENDAR