BEGIN:VCALENDAR
VERSION:2.0
PRODID:-//NAMME - ECPv6.15.20//NONSGML v1.0//EN
CALSCALE:GREGORIAN
METHOD:PUBLISH
X-WR-CALNAME:NAMME
X-ORIGINAL-URL:https://www.nammenational.org
X-WR-CALDESC:Events for NAMME
REFRESH-INTERVAL;VALUE=DURATION:PT1H
X-Robots-Tag:noindex
X-PUBLISHED-TTL:PT1H
BEGIN:VTIMEZONE
TZID:Atlantic/Azores
BEGIN:DAYLIGHT
TZOFFSETFROM:-0100
TZOFFSETTO:+0000
TZNAME:+00
DTSTART:20230326T010000
END:DAYLIGHT
BEGIN:STANDARD
TZOFFSETFROM:+0000
TZOFFSETTO:-0100
TZNAME:-01
DTSTART:20231029T010000
END:STANDARD
BEGIN:DAYLIGHT
TZOFFSETFROM:-0100
TZOFFSETTO:+0000
TZNAME:+00
DTSTART:20240331T010000
END:DAYLIGHT
BEGIN:STANDARD
TZOFFSETFROM:+0000
TZOFFSETTO:-0100
TZNAME:-01
DTSTART:20241027T010000
END:STANDARD
BEGIN:DAYLIGHT
TZOFFSETFROM:-0100
TZOFFSETTO:+0000
TZNAME:+00
DTSTART:20250330T010000
END:DAYLIGHT
BEGIN:STANDARD
TZOFFSETFROM:+0000
TZOFFSETTO:-0100
TZNAME:-01
DTSTART:20251026T010000
END:STANDARD
END:VTIMEZONE
BEGIN:VTIMEZONE
TZID:UTC
BEGIN:STANDARD
TZOFFSETFROM:+0000
TZOFFSETTO:+0000
TZNAME:UTC
DTSTART:20200101T000000
END:STANDARD
END:VTIMEZONE
BEGIN:VEVENT
DTSTART;VALUE=DATE:20240918
DTEND;VALUE=DATE:20240923
DTSTAMP:20260424T153106
CREATED:20230803T005146Z
LAST-MODIFIED:20230803T005146Z
UID:7320-1726617600-1727049599@www.nammenational.org
SUMMARY:NAMME 2024 National Conference
DESCRIPTION:
URL:https://www.nammenational.org/event/namme-2024-national-conference/
LOCATION:Intercontinental Chicago Magnificent Mile\, 505 N Michigan Ave\,\, Chicago\, IL\, 60611\, United States
END:VEVENT
BEGIN:VEVENT
DTSTART;TZID=UTC:20240328T190000
DTEND;TZID=UTC:20240328T210000
DTSTAMP:20260424T153106
CREATED:20240307T142648Z
LAST-MODIFIED:20240307T142648Z
UID:7605-1711652400-1711659600@www.nammenational.org
SUMMARY:NAMME Member Mixer
DESCRIPTION:
URL:https://www.nammenational.org/event/namme-member-mixer/
LOCATION:New Orleans Marriott\, 555 Canal St\,\, New Orleans\,\, LA\, 70130\, United States
END:VEVENT
BEGIN:VEVENT
DTSTART;TZID=UTC:20230916T100000
DTEND;TZID=UTC:20230916T120000
DTSTAMP:20260424T153106
CREATED:20230803T004426Z
LAST-MODIFIED:20230803T004426Z
UID:7318-1694858400-1694865600@www.nammenational.org
SUMMARY:National Business Meeting
DESCRIPTION:
URL:https://www.nammenational.org/event/national-business-meeting/
LOCATION:Virtual
END:VEVENT
BEGIN:VEVENT
DTSTART;TZID=UTC:20220915T080000
DTEND;TZID=UTC:20220918T170000
DTSTAMP:20260424T153106
CREATED:20210115T015653Z
LAST-MODIFIED:20210115T015655Z
UID:6169-1663228800-1663520400@www.nammenational.org
SUMMARY:NAMME 2022 Annual Conference
DESCRIPTION:
URL:https://www.nammenational.org/event/namme-2022-annual-conference/
END:VEVENT
BEGIN:VEVENT
DTSTART;TZID=UTC:20220208T080000
DTEND;TZID=UTC:20220225T170000
DTSTAMP:20260424T153107
CREATED:20220208T215519Z
LAST-MODIFIED:20220208T215526Z
UID:6791-1644307200-1645808400@www.nammenational.org
SUMMARY:2022 Virtual Ernest  E. Just Symposium
DESCRIPTION:
URL:https://www.nammenational.org/event/2022-virtual-ernest-e-just-symposium/
END:VEVENT
BEGIN:VEVENT
DTSTART;TZID=UTC:20211123T000000
DTEND;TZID=UTC:20211123T235959
DTSTAMP:20260424T153107
CREATED:20201212T044433Z
LAST-MODIFIED:20201212T044434Z
UID:5929-1637625600-1637711999@www.nammenational.org
SUMMARY:Ask NAMME: Professional Development
DESCRIPTION:
URL:https://www.nammenational.org/event/ask-namme-professional-development-3/
END:VEVENT
BEGIN:VEVENT
DTSTART;TZID=UTC:20211026T000000
DTEND;TZID=UTC:20211026T235959
DTSTAMP:20260424T153107
CREATED:20201212T044352Z
LAST-MODIFIED:20211019T171608Z
UID:5927-1635206400-1635292799@www.nammenational.org
SUMMARY:Ask NAMME: The Nobel Project: A Carle Illinois College of Medicine Pathway Program
DESCRIPTION:STEM Illinois is deeply rooted in the historic mission of land-grant institutions. The mission is to democratize higher education and address the world’s most pressing societal challenges such as health disparities. These challenges also include the lack of diverse healthcare providers. The STEIM Illinois Nobel Project works with students in Chicago (urban)\, Pembroke (rural) and Urbana-Champaign (micro-urban) to prepare them to succeed in STEM majors and medical school. The goal is to create an ecosystem of 100\,000 Community Health Workers and Citizen Scientists (community researchers) to address racism as a health crisis. The Nobel Scholars\, the Designing Resiliency and Well-being Maker Lab Node and the Siebel Center for Design will work together to create a Wellness Store. \n\n\n\n\n\n\n\n\nRuby Mendenhall is a Professor of Sociology and African American Studies at the University of Illinois at Urbana-Champaign. She is an Associate Dean for Diversity and Democratization of Health Innovation at the Carle Illinois College of Medicine. Her research examines Black mothers’ resiliency and spirituality\, and how living in racially segregated neighborhoods with high levels of violence affects their mental and physical health. Recent grants from the National Science Foundation\, the MacArthur Foundation and the University of Illinois at Urbana-Champaign will support work around training Community Health Workers and Citizen Scientists. Ruby discusses her vision for healing in her TEDxUIUC talk entitled DREAMing and Designing Spaces of Hope. Website: https://afro.illinois.edu/directory/profile/rubymenhttps://afro.illinois.edu/directory/profile/rubymen
URL:https://www.nammenational.org/event/ask-namme-nobelproject/
LOCATION:Virtual
END:VEVENT
BEGIN:VEVENT
DTSTART;TZID=UTC:20210928T180000
DTEND;TZID=UTC:20210928T193000
DTSTAMP:20260424T153107
CREATED:20201212T044604Z
LAST-MODIFIED:20210910T165111Z
UID:5931-1632852000-1632857400@www.nammenational.org
SUMMARY:Ask NAMME: Diversity and Inclusion in Public Health
DESCRIPTION:The world needs public health leaders now more than ever. The last year and a half has demonstrated the critical importance of a highly skilled public health workforce that is able to tackle the world’s toughest challenges. In addition\, it’s essential that our public health workforce is diverse and reflects the multitude of communities it serves. Join us for brief remarks by DuBois Bowman\, dean of the University of Michigan School of Public Health\, about diversity\, equity\, and inclusion efforts underway at his school\, followed by conversation about how educators can help foster a diverse public health workforce and create inclusive school communities. \n\n\n  \n\n\n\nSpeakerF. DuBois BowmanA renowned expert in the statistical analysis of brain imaging data\, F. DuBois Bowman is dean of the University of Michigan School of Public Health. Dr. Bowman’s work mines massive data sets and has important implications for mental and neurological disorders such as Parkinson’s disease\, Alzheimer’s disease\, depression\, schizophrenia\, and substance addiction. His research has helped reveal brain patterns that reflect disruption from psychiatric diseases\, detect biomarkers for neurological diseases\, and determine more individualized therapeutic treatments. Dr. Bowman received a Bachelor of Science degree in Mathematics from Morehouse College\, a Master of Science degree in Biostatistics from the University of Michigan\, and a PhD in Biostatistics from the University of North Carolina at Chapel Hill. 
URL:https://www.nammenational.org/event/ask-namme-diversity-and-inclusion-in-public-health/
END:VEVENT
BEGIN:VEVENT
DTSTART;TZID=UTC:20210924T160000
DTEND;TZID=UTC:20210925T120000
DTSTAMP:20260424T153107
CREATED:20210630T151435Z
LAST-MODIFIED:20210819T173428Z
UID:6540-1632499200-1632571200@www.nammenational.org
SUMMARY:2021 Northeast Regional Virtual Conference: Building Stronger Communities: Dismantling Health Disparities
DESCRIPTION:
URL:https://www.nammenational.org/event/northeast-region-virtual-conference/
END:VEVENT
BEGIN:VEVENT
DTSTART;TZID=UTC:20210924T100000
DTEND;TZID=UTC:20210924T140000
DTSTAMP:20260424T153107
CREATED:20210630T151342Z
LAST-MODIFIED:20210827T201147Z
UID:6537-1632477600-1632492000@www.nammenational.org
SUMMARY:Western Region 2021 Virtual Conference
DESCRIPTION:
URL:https://www.nammenational.org/event/southern-region-fall-regional-meeting/
END:VEVENT
BEGIN:VEVENT
DTSTART;TZID=UTC:20210910T170000
DTEND;TZID=UTC:20210910T180000
DTSTAMP:20260424T153107
CREATED:20210630T151022Z
LAST-MODIFIED:20210630T151024Z
UID:6535-1631293200-1631296800@www.nammenational.org
SUMMARY:Central Region Virtual Meet & Greet
DESCRIPTION:Save the Date!
URL:https://www.nammenational.org/event/central-region-virtual-meet-greet/
END:VEVENT
BEGIN:VEVENT
DTSTART;TZID=UTC:20210824T000000
DTEND;TZID=UTC:20210824T235959
DTSTAMP:20260424T153107
CREATED:20201212T044303Z
LAST-MODIFIED:20201212T044304Z
UID:5925-1629763200-1629849599@www.nammenational.org
SUMMARY:Ask NAMME: Professional Development
DESCRIPTION:
URL:https://www.nammenational.org/event/ask-namme-professional-development-2/
END:VEVENT
BEGIN:VEVENT
DTSTART;TZID=UTC:20210622T000000
DTEND;TZID=UTC:20210622T235959
DTSTAMP:20260424T153107
CREATED:20201212T044048Z
LAST-MODIFIED:20210115T073919Z
UID:5921-1624320000-1624406399@www.nammenational.org
SUMMARY:Ask NAMME: Advisors Summit-co-sponsorship with NAAHP
DESCRIPTION:This event is open to NAMME members\, medical students and residents
URL:https://www.nammenational.org/event/ask-namme-advisors-summit-co-sponsorship-with-naahp/
END:VEVENT
BEGIN:VEVENT
DTSTART;TZID=UTC:20210603T093000
DTEND;TZID=UTC:20210603T093000
DTSTAMP:20260424T153107
CREATED:20210205T052031Z
LAST-MODIFIED:20210205T052033Z
UID:6372-1622712600-1622712600@www.nammenational.org
SUMMARY:NAMME Executive Committee Meeting
DESCRIPTION:
URL:https://www.nammenational.org/event/namme-executive-committee-meeting-17/
END:VEVENT
BEGIN:VEVENT
DTSTART;TZID=UTC:20210527T093000
DTEND;TZID=UTC:20210527T093000
DTSTAMP:20260424T153107
CREATED:20210205T051636Z
LAST-MODIFIED:20210205T051638Z
UID:6369-1622107800-1622107800@www.nammenational.org
SUMMARY:NAMME Executive Committee Meeting
DESCRIPTION:
URL:https://www.nammenational.org/event/namme-executive-committee-meeting-16/
END:VEVENT
BEGIN:VEVENT
DTSTART;TZID=UTC:20210525T000000
DTEND;TZID=UTC:20210525T235959
DTSTAMP:20260424T153107
CREATED:20201212T043721Z
LAST-MODIFIED:20210115T023656Z
UID:5919-1621900800-1621987199@www.nammenational.org
SUMMARY:Ask NAMME: Professional Development (Telling Our Story: Writing Workshop for Diversity and Inclusion Scholars)
DESCRIPTION:
URL:https://www.nammenational.org/event/ask-namme-professional-development-telling-our-story-writing-workshop-for-diversity-and-inclusion-scholars/
END:VEVENT
BEGIN:VEVENT
DTSTART;TZID=UTC:20210520T093000
DTEND;TZID=UTC:20210520T093000
DTSTAMP:20260424T153107
CREATED:20210205T051615Z
LAST-MODIFIED:20210205T051616Z
UID:6367-1621503000-1621503000@www.nammenational.org
SUMMARY:NAMME Executive Committee Meeting
DESCRIPTION:
URL:https://www.nammenational.org/event/namme-executive-committee-meeting-15/
END:VEVENT
BEGIN:VEVENT
DTSTART;TZID=UTC:20210518T150000
DTEND;TZID=UTC:20210518T150000
DTSTAMP:20260424T153107
CREATED:20201212T043606Z
LAST-MODIFIED:20201212T043607Z
UID:5917-1621350000-1621350000@www.nammenational.org
SUMMARY:Executive Board Meeting
DESCRIPTION:
URL:https://www.nammenational.org/event/executive-board-meeting-3/
END:VEVENT
BEGIN:VEVENT
DTSTART;TZID=UTC:20210513T093000
DTEND;TZID=UTC:20210513T093000
DTSTAMP:20260424T153107
CREATED:20210205T051551Z
LAST-MODIFIED:20210205T051552Z
UID:6365-1620898200-1620898200@www.nammenational.org
SUMMARY:NAMME Executive Committee Meeting
DESCRIPTION:
URL:https://www.nammenational.org/event/namme-executive-committee-meeting-14/
END:VEVENT
BEGIN:VEVENT
DTSTART;TZID=UTC:20210506T093000
DTEND;TZID=UTC:20210506T093000
DTSTAMP:20260424T153107
CREATED:20210205T051527Z
LAST-MODIFIED:20210205T051528Z
UID:6363-1620293400-1620293400@www.nammenational.org
SUMMARY:NAMME Executive Committee Meeting
DESCRIPTION:
URL:https://www.nammenational.org/event/namme-executive-committee-meeting-13/
END:VEVENT
BEGIN:VEVENT
DTSTART;TZID=UTC:20210429T093000
DTEND;TZID=UTC:20210429T093000
DTSTAMP:20260424T153107
CREATED:20210205T051455Z
LAST-MODIFIED:20210205T051456Z
UID:6361-1619688600-1619688600@www.nammenational.org
SUMMARY:NAMME Executive Committee Meeting
DESCRIPTION:
URL:https://www.nammenational.org/event/namme-executive-committee-meeting-12/
END:VEVENT
BEGIN:VEVENT
DTSTART;TZID=UTC:20210427T180000
DTEND;TZID=UTC:20210427T193000
DTSTAMP:20260424T153107
CREATED:20201212T043433Z
LAST-MODIFIED:20210413T195309Z
UID:5915-1619546400-1619551800@www.nammenational.org
SUMMARY:ASK NAMME: Action Collaborative for Black Men in Medicine
DESCRIPTION:Hosted by AAMC & NMA.  This event is open to NAMME members\, medical students and residents
URL:https://www.nammenational.org/event/ask-namme-mental-health-abpsi-clark-atlanta-university-dr-christopher-bass-university-of-california-dr-nathaniel-counselor-in-charlotte-dr-robert-johnson/
ATTACH;FMTTYPE=image/jpeg:https://www.nammenational.org/wp-content/uploads/2020/12/April-27-2021-7.jpg
END:VEVENT
BEGIN:VEVENT
DTSTART;TZID=UTC:20210422T093000
DTEND;TZID=UTC:20210422T093000
DTSTAMP:20260424T153107
CREATED:20210205T051434Z
LAST-MODIFIED:20210205T051436Z
UID:6359-1619083800-1619083800@www.nammenational.org
SUMMARY:NAMME Executive Committee Meeting
DESCRIPTION:
URL:https://www.nammenational.org/event/namme-executive-committee-meeting-11/
END:VEVENT
BEGIN:VEVENT
DTSTART;TZID=UTC:20210415T093000
DTEND;TZID=UTC:20210415T093000
DTSTAMP:20260424T153107
CREATED:20210205T051402Z
LAST-MODIFIED:20210205T051403Z
UID:6357-1618479000-1618479000@www.nammenational.org
SUMMARY:NAMME Executive Committee Meeting
DESCRIPTION:
URL:https://www.nammenational.org/event/namme-executive-committee-meeting-10/
END:VEVENT
BEGIN:VEVENT
DTSTART;TZID=UTC:20210408T093000
DTEND;TZID=UTC:20210408T093000
DTSTAMP:20260424T153107
CREATED:20210205T051342Z
LAST-MODIFIED:20210205T051343Z
UID:6355-1617874200-1617874200@www.nammenational.org
SUMMARY:NAMME Executive Committee Meeting
DESCRIPTION:
URL:https://www.nammenational.org/event/namme-executive-committee-meeting-9/
END:VEVENT
BEGIN:VEVENT
DTSTART;TZID=UTC:20210401T093000
DTEND;TZID=UTC:20210401T093000
DTSTAMP:20260424T153107
CREATED:20210205T051116Z
LAST-MODIFIED:20210205T051118Z
UID:6353-1617269400-1617269400@www.nammenational.org
SUMMARY:NAMME Executive Committee Meeting
DESCRIPTION:
URL:https://www.nammenational.org/event/namme-executive-committee-meeting-8/
END:VEVENT
BEGIN:VEVENT
DTSTART;TZID=UTC:20210325T093000
DTEND;TZID=UTC:20210325T093000
DTSTAMP:20260424T153107
CREATED:20210205T051050Z
LAST-MODIFIED:20210205T051052Z
UID:6351-1616664600-1616664600@www.nammenational.org
SUMMARY:NAMME Executive Committee Meeting
DESCRIPTION:
URL:https://www.nammenational.org/event/namme-executive-committee-meeting-7/
END:VEVENT
BEGIN:VEVENT
DTSTART;TZID=UTC:20210323T180000
DTEND;TZID=UTC:20210323T180000
DTSTAMP:20260424T153107
CREATED:20201212T043225Z
LAST-MODIFIED:20210313T013858Z
UID:5913-1616522400-1616522400@www.nammenational.org
SUMMARY:Ask NAMME: Steps to Increasing Diversity of the Physician Assistant Workforce - Promising Pathways
DESCRIPTION:
URL:https://www.nammenational.org/event/ask-namme-lmsa-snma-sbpta-pharmacy-org-pa/
END:VEVENT
BEGIN:VEVENT
DTSTART;TZID=UTC:20210320T080000
DTEND;TZID=UTC:20210320T120000
DTSTAMP:20260424T153107
CREATED:20210316T011157Z
LAST-MODIFIED:20210316T015616Z
UID:6461-1616227200-1616241600@www.nammenational.org
SUMMARY:Southern Region’s Spring Cocktails & Collegiality - CE Opportunity: Opioids the Forgotten Pandemic
DESCRIPTION:This program will focus on strategies to address prescription opioid misuse and abuse in three target healthcare lines (rural healthcare providers\, Obstetrics and Gynecology providers\, and adolescent health providers).   \n\n\n\nOpioid Conference Brochure 2021 -FinalDownload
URL:https://www.nammenational.org/event/southern-regions-spring-cocktails-collegiality-ce-opportunity-opioids-the-forgotten-pandemic/
END:VEVENT
BEGIN:VEVENT
DTSTART;TZID=UTC:20210319T170000
DTEND;TZID=UTC:20210319T180000
DTSTAMP:20260424T153107
CREATED:20210313T013145Z
LAST-MODIFIED:20210313T013727Z
UID:6452-1616173200-1616176800@www.nammenational.org
SUMMARY:Southern Region's Spring Cocktails & Collegiality -Old Disparities are New Again
DESCRIPTION:Led by Dr. Robert Winn\, Director of Virginia Commonwealth University Massey Cancer Center
URL:https://www.nammenational.org/event/southern-regions-spring-cocktails-collegiality-old-disparities-are-new-again/
END:VEVENT
END:VCALENDAR